BEGIN:VCALENDAR
VERSION:2.0
METHOD:PUBLISH
BEGIN:VEVENT
ORGANIZER:MAILTO:
DTSTART:20160120T150000Z
DTEND:20160120T160000Z
LOCATION:WebEx
SUMMARY:Energy Harvesting PMIC and PRoC-BLE Solution for Wireless Sensors
DESCRIPTION;ENCODING=QUOTED-PRINTABLE:CypressLogo.png RoadTest The Kit {tabbedtable} Tab Label Tab Content About This Webinar Energy harvesting is the process by which energy is derived from external sources (e.g. solar or light energy, thermal energy, and kinetic energy) and stored for small, wireless autonomous devices like those used in Wireless Sensor Nodes (WSNs). Energy Harvesting Devices (EHDs) provide a very small amount of power for low-energy electronics. Solar modules are the most popular EHDs, since they are readily available, easy to use and low cost. The power generated is proportional to the size of module and varies with brightness. Energy Harvesting Power Management ICs (PMICs) An Energy Harvesting PMIC is part of an Energy Harvesting System (EHS) that includes the EHD and a Storage Device. The PMIC receives the intermittent, very low-energy generated by the EHD and transforms that energy for storage in the Storage Device. The Storage Device, which is typically a battery, conventional capacitor, or supercapacitor, then is connected to the rest of the system, providing the power needed to operate. In this webinar, you will learn about: Cypress’ low-power, battery-free Energy Harvesting PMIC solution for solar-powered Wireless Sensor Node (WSN) Internet of Things (IoT) Devices Cypress’ flexible EZ-BLE™ Programmable Radio-on-Chip (PRoC™) Module for WSN communication Cypress’ Solar-Powered IoT Device Kit, including an Energy Harvesting PMIC, a series solar module, an EZ-BLE PRoC Module and a BLE-USB bridge for connecting to a PC JKLE2P+ldI4L6MjA== About The Presenter Jack Ogawa: Senior Director, Corporate Marketing contentimage_66203.jpg-200x200.jpg?sv=2016-05-31&amp;sr=b&amp;sig=Ar8hs2EgqW%2BLWtY9phRj53vbSCC89lq%2BM0QG8Fg%2BIO0%3D&amp;se=2026-05-01T23%3A59%3A59Z&amp;sp=r&amp;_=j+gK9JB109mjT2YOIi9HXQ== Jack Ogawa has been in tech for over 20 years doing B2B marketing, business development, and technical support, compiling a unique blend of experience: Asia/Japan business development focused on communication and handsets, US market development targeting IoT with NFC and HW root of trust, deep embedded system knowledge, plus proven revenue and product management. Webinar Recording \n\n\n\n\n\n\n\n\n\n\n\n\n \n \n \n \n \n \n\n \n \n \n \n	\n \n\n\n\n\n\n \n\n \n \n You don't have permission to edit metadata of this video. \n \n \n\n \n \n\n\n \n\n \n \n \n \n \n Edit media \n \n \n \n \n \n Dimensions \n \n \n \n x \n \n \n \n \n Small \n Medium \n Large \n Custom \n \n \n \n \n Subject (required) \n \n \n Brief Description \n \n \n Tags (separated by comma) \n \n \n Video visibility in search results \n \n Visible \n Hidden \n \n \n \n Parent content \n \n \n \n \n \n A== CY EH PMIC Solution 20Jan16.pdf 1.72.png-15x19x2.png?sv=2016-05-31&amp;sr=b&amp;sig=WFu5NBIo0Id%2F5oDZTUM4XuWor6XPTGvJnD09YtZYTH0%3D&amp;se=2026-05-01T23%3A59%3A59Z&amp;sp=r&amp;_=fH3ZTAcbUpTVcTEbGuGwWg== QA.pdf
X-ALT-DESC;FMTTYPE=text/html:<html><body><p style="margin:0;"><a href="http://www.mouser.com/images/microsites/CypressLogo.png"><a href="http://www.mouser.com/images/microsites/CypressLogo.png">CypressLogo.png</a></a></p><p style="margin:0;padding:0px;">&nbsp;</p><p style="margin:0;text-align:center;"><span class="e14-button-large e14-button-primary"><a class="jive-link-external-small" href="http://www.element14.com/community/roadTests/1504" target="_blank" title="RoadTest The Kit">RoadTest The Kit</a></span></p><p style="margin:0;padding:0px;">&nbsp;</p><table border="1" class="jiveBorder" style="border:1px solid #000000;width:100%;"><thead><tr><th style="border:1px solid black;border:1px solid #000000;padding:2px;color:#ffffff;background-color:#6690bc;text-align:center;" valign="middle"><strong>{tabbedtable} Tab Label</strong></th><th style="border:1px solid black;border:1px solid #000000;padding:2px;color:#ffffff;background-color:#6690bc;text-align:center;" valign="middle"><strong>Tab Content</strong></th></tr></thead><tbody><tr><td style="border:1px solid black;border:1px solid #000000;padding:2px;">About This Webinar</td><td style="border:1px solid black;border:1px solid #000000;padding:2px;"><p style="margin:0;font-size:13.3333px;"><span style="font-size:12pt;">Energy harvesting is the process by which energy is derived from external sources (e.g. solar or light energy, thermal energy, and kinetic energy) and stored for small, wireless autonomous devices like those used in Wireless Sensor Nodes (WSNs).</span></p><p style="margin:0;padding:0px;font-size:13.3333px;">&nbsp;</p><p style="margin:0;font-size:13.3333px;"><span style="font-size:12pt;">Energy Harvesting Devices (EHDs) provide a very small amount of power for low-energy electronics. Solar modules are the most popular EHDs, since they are readily available, easy to use and low cost. The power generated is proportional to the size of module and varies with brightness.</span></p><p style="margin:0;font-size:13.3333px;"><span style="font-size:12pt;">Energy Harvesting Power Management ICs (PMICs)</span></p><p style="margin:0;padding:0px;font-size:13.3333px;">&nbsp;</p><p style="margin:0;font-size:13.3333px;"><span style="font-size:12pt;">An Energy Harvesting PMIC is part of an Energy Harvesting System (EHS) that includes the EHD and a Storage Device. The PMIC receives the intermittent, very low-energy generated by the EHD and transforms that energy for storage in the Storage Device. The Storage Device, which is typically a battery, conventional capacitor, or supercapacitor, then is connected to the rest of the system, providing the power needed to operate.</span></p><p style="margin:0;font-size:13.3333px;"><span style="font-size:12pt;">In this webinar, you will learn about:</span></p><p style="margin:0;padding:0px;font-size:13.3333px;">&nbsp;</p><ul><li><span style="font-size:12pt;">Cypress’ low-power, battery-free Energy Harvesting PMIC solution for solar-powered Wireless Sensor Node (WSN) Internet of Things (IoT) Devices</span></li><li><span style="font-size:12pt;">Cypress’ flexible EZ-BLE™ Programmable Radio-on-Chip (PRoC™) Module for WSN communication</span></li><li><span style="font-size:12pt;">Cypress’ Solar-Powered IoT Device Kit, including an Energy Harvesting PMIC, a series solar module, an EZ-BLE PRoC Module and a BLE-USB bridge for connecting to a PC</span><br /><span><a href="https://community.element14.com/resized-image/__size/245x186/__key/telligent-evolution-extensions-calendar-calendarfiles/00-00-00-00-71/contentimage_5F00_66202.png"><a href="https://community-storage.element14.com/communityserver-components-secureimagefileviewer/telligent/evolution/extensions/calendar/calendarfiles/00/00/00/00/71/contentimage_66202.png-245x186.png?sv=2016-05-31&amp;sr=b&amp;sig=3VLLm%2BTOnwHnFeTnlSklZ0AS0XwJqIyyorVr8O86xHM%3D&amp;se=2026-05-01T23%3A59%3A59Z&amp;sp=r&amp;_=e07pi/JKLE2P+ldI4L6MjA==">JKLE2P+ldI4L6MjA==</a></a></span></li></ul></td></tr><tr><td style="border:1px solid black;border:1px solid #000000;padding:2px;">About The Presenter</td><td style="border:1px solid black;border:1px solid #000000;padding:2px;"><p style="margin:0;font-size:13.3333px;"><span style="font-size:12pt;font-family:arial, helvetica, sans-serif;">Jack Ogawa: Senior Director, Corporate Marketing </span></p><p style="margin:0;font-size:13.3333px;"><span><a href="https://community.element14.com/resized-image/__size/200x200/__key/telligent-evolution-extensions-calendar-calendarfiles/00-00-00-00-71/contentimage_5F00_66203.jpg"><a href="https://community-storage.element14.com/communityserver-components-secureimagefileviewer/telligent/evolution/extensions/calendar/calendarfiles/00/00/00/00/71/contentimage_66203.jpg-200x200.jpg?sv=2016-05-31&amp;sr=b&amp;sig=Ar8hs2EgqW%2BLWtY9phRj53vbSCC89lq%2BM0QG8Fg%2BIO0%3D&amp;se=2026-05-01T23%3A59%3A59Z&amp;sp=r&amp;_=j+gK9JB109mjT2YOIi9HXQ==">contentimage_66203.jpg-200x200.jpg?sv=2016-05-31&amp;sr=b&amp;sig=Ar8hs2EgqW%2BLWtY9phRj53vbSCC89lq%2BM0QG8Fg%2BIO0%3D&amp;se=2026-05-01T23%3A59%3A59Z&amp;sp=r&amp;_=j+gK9JB109mjT2YOIi9HXQ==</a></a></span></p><p style="margin:0;font-size:13.3333px;"><span style="line-height:1.5em;font-size:12pt;font-family:arial, helvetica, sans-serif;">Jack Ogawa has been in tech for over 20 years doing B2B marketing, business development, and technical support, compiling a unique blend of experience: Asia/Japan business development focused on communication and handsets, US market development targeting IoT with NFC and HW root of trust, deep embedded system knowledge, plus proven revenue and product management.</span></p></td></tr><tr><td style="border:1px solid black;border:1px solid #000000;padding:2px;">Webinar Recording</td><td style="border:1px solid black;border:1px solid #000000;padding:2px;"><p style="margin:0;"></p><span>        <div style='width: 520px; height: 333px;' class='se-vm-wrapper fragment-b3ddff4f373f41a3befafb182a78f9e91854231094_media se-video-view se-video-frame-container hidden'>                    <iframe loading="lazy" allowfullscreen src='https://www.youtube-nocookie.com/embed/2yxVThFLmxU' frameborder="0"></iframe><div class="se-video-viewer-flex-space-between se-video-viewer-controls hidden">    <div>        <span class="se-media-rating-control"></span>	</div>		</div>    </div>    <div class='se-vm-wrapper fragment-b3ddff4f373f41a3befafb182a78f9e91854231094_media se-video-message se-video-message-no-access hidden'>        <div class='se-video-message-box'>            <div>You don't have permission to edit metadata of this video.</div>        </div>    </div>    <div class="se-vm-wrapper fragment-b3ddff4f373f41a3befafb182a78f9e91854231094_media se-video-editor hidden">        <div class='se-video-modal-curtain hidden'></div><div class='se-video-modal'>        <div class="modal-title hidden">        <div class="modal-close-wrapper">            <div class="se-video-modal-close modal-close"></div>        </div>        <div style="pointer-events: none; user-select: none;">Edit media</div>    </div>                <div>                <div class="se-video-flex-row-center se-video-editor-dimensions hidden" style="margin-bottom: 20px;">            <label style="margin-right: 25px;">Dimensions</label>                                    <input type="text" class="se-editor-width mce-textbox" name="se-editor-width" class="mce-textbox mcemedia-width" value="" size="4">                        <span style="margin: 0 5px;">x</span>                                    <input type="text" class="se-editor-height mce-textbox" name="se-editor-height" class="mce-textbox mcemedia-width" value="" size="4" style="margin-right: 10px;">                                    <select class="se-video-editor-select se-video-editor-dimension-select" style="border-radius: 3px;">                <option value="small">Small</option>                <option value="medium">Medium</option>                <option value="large">Large</option>                <option value="custom">Custom</option>            </select>        </div>                                <label class="se-video-editor-label" style="margin-top: 10px;">Subject <b>(required)</b></label>        <input type="text" class="se-video-editor-title se-video-editor-input mce-textbox" />                        <label class="se-video-editor-label">Brief Description</label>        <input type="text" class="se-video-editor-description se-video-editor-input mce-textbox" />                        <label class="se-video-editor-label">Tags (separated by comma)</label>        <input type="text" class="se-video-editor-tags se-video-editor-input mce-textbox" />                        <label class="se-video-editor-label">Video visibility in search results</label>        <select class="se-video-editor-search-visibility-select se-video-editor-select">            <option value="true">Visible</option>            <option value="false">Hidden</option>        </select>                        <div class=" hidden ">            <label class="se-video-editor-label">Parent content</label>            <div class="se-video-flex-row" style="align-items: center; margin-bottom: 15px;">                <select class="se-video-editor-parent-select se-video-editor-select" style="margin-right: 15px;">                                </select>                                <a class="se-video-editor-open-content-button se-video-editor-anchor" target="_blank">                    <a href="https://community-storage.element14.com/defaultwidgets/00ec0202bb9041c288cc63c14b3070ba/b3ddff4f373f41a3befafb182a78f9e9/view-video.js?sv=2016-05-31&amp;sr=b&amp;si=telligent&amp;sig=8MzPAZnyJ8ioSoedQNHb47AeE2DWxcm2%2FhliV%2F1eIEE%3D&amp;_=CFBOVZ9Hl72qCFKNy8OB/A==">A==</a></span></a></span></td><td><span style="font-size:80%;">CY EH PMIC Solution 20Jan16.pdf</span></td></tr><tr><td width="160"><span class="_se_attachment" id="attid_https://www.element14.com/community/api/core/v3/attachments/197887"><a href="https://community-storage.element14.com/telligent-evolution-extensions-calendar-calendarfiles/00/00/00/00/71/QA.pdf?sv=2016-05-31&sr=b&sig=yTN6aDrvGtFvSCd4euEt0jEjH4Rd%2Bcp%2BQjoezERtVSc%3D&se=2026-05-01T23%3A59%3A59Z&sp=r&_=jViP8CRWGIJ/X0yE84sJpA==" class="ui-theater" data-theaterurl="https://community.element14.com/callback.ashx?__type=Telligent.Evolution.DocumentPreview.DocumentViewerConfiguration%2C%20Telligent.Evolution.Platform&t=theater&fs=telligent.evolution.extensions.calendar.calendarfiles&p=00.00.00.00.71&f=QA.pdf"><span class="doc-preview-preview" style="width: 15px; height: 19px;"><a href="https://community-storage.element14.com/communityserver-components-secureimagefileviewer/docpreview/s/00/00/01/82/68/1.72.png-15x19x2.png?sv=2016-05-31&amp;sr=b&amp;sig=WFu5NBIo0Id%2F5oDZTUM4XuWor6XPTGvJnD09YtZYTH0%3D&amp;se=2026-05-01T23%3A59%3A59Z&amp;sp=r&amp;_=fH3ZTAcbUpTVcTEbGuGwWg==">1.72.png-15x19x2.png?sv=2016-05-31&amp;sr=b&amp;sig=WFu5NBIo0Id%2F5oDZTUM4XuWor6XPTGvJnD09YtZYTH0%3D&amp;se=2026-05-01T23%3A59%3A59Z&amp;sp=r&amp;_=fH3ZTAcbUpTVcTEbGuGwWg==</a></span></a></span></td><td><span style="font-size:80%;">QA.pdf</span></td></tr></tbody></table></div><script>window.top.e14.func.queueScripts.add(function() { window.top.e14.func.e14DynaloadTabbedTables.init(); });</script></body></html>
CLASS:PUBLIC
END:VEVENT
END:VCALENDAR