BEGIN:VCALENDAR
VERSION:2.0
METHOD:PUBLISH
BEGIN:VEVENT
ORGANIZER:MAILTO:
DTSTART:20211007T140000Z
DTEND:20211007T150000Z
LOCATION:On24
SUMMARY:Next Gen Wi-Fi Embedded Modules for Smart Home CCTV Applications
DESCRIPTION;ENCODING=QUOTED-PRINTABLE:8NJGCbXUeCn+g== The PAN9520 is a 2.4 GHz 802.11 b/g/n embedded Wi ‑ Fi module based on Espressif ESP32-S2 that includes the powerful Xtensa 32-bit LX7 CPU. An integrated chip antenna, and QSPI memory enable the module to be used in a variety of stand-alone or host-controlled applications. In this webinar you will learn about everything you need to know about the PAN9520, its rich feature set and especially how to get started in terms of Hardware and Software tools. Furthermore, we will showcase the capabilities of the PAN9520 for smart home CCTV applications. Agenda Introduction Panasonic Wireless Connectivity The new PAN9520 WiFi embedded module How to get started – the evaluation kit Toolchain Overview Demo Case: Using the camera interface with a webserver Q&amp;A contentimage_203103.jpg-308x164.jpg?sv=2016-05-31&amp;sr=b&amp;sig=U9%2BS2YHbNf2RD3Pirao1fzf02SHgq%2BwIGnUZNUfUbKM%3D&amp;se=2026-04-28T23%3A59%3A59Z&amp;sp=r&amp;_=K86jgcR4gkfSqkJcf89dow== Buy Now Buy Now eWBe8gQQ== The Presenter: contentimage_203104.jpg-200x200.jpg?sv=2016-05-31&amp;sr=b&amp;sig=HH3317dIvzbyo80CI%2Fr9Qq%2BL3gR9Okj3zbK76Tg9AHQ%3D&amp;se=2026-04-28T23%3A59%3A59Z&amp;sp=r&amp;_=DqDsZR2d67oEOR4tbmeV+Q== contentimage_203105.png-138x188.png?sv=2016-05-31&amp;sr=b&amp;sig=TGsv9l4ToFKmEc%2BHZMozACPgGDv7Ht1ld%2F49snNvhR4%3D&amp;se=2026-04-28T23%3A59%3A59Z&amp;sp=r&amp;_=+qn5BMOTZ1GLJq5Le7ePJw== Sabari Nair, Business Development Manager at Panasonic Tomislav Tipura, Product Manager for Wireless Devices at Panasonic Sabari is a telecommunications engineer with experience in cognitive radio and ad-hoc networks. He started his career as a Systems Engineer for state-of-the-art radar technologies such as ADS-B and Multilateration and later gained experience as a Product Development Manager. Currently he works at Panasonic as a Business Development Manager for IoT products. Tomislav has studied Electrical Engineering in Munich and obtained a Master of Science degree with a focus on Control Theory in Electrical Drives. After gaining experiences as a working student in R&amp;D and Rapid Prototyping departments in Mechatronics, he started working at Panasonic Industry Europe GmbH as Product Manager for Wireless Devices.
X-ALT-DESC;FMTTYPE=text/html:<html><body><p style="margin:0;"><span><a href="https://community.element14.com/resized-image/__size/294x46/__key/telligent-evolution-extensions-calendar-calendarfiles/00-00-00-00-71/contentimage_5F00_203102.png"><a href="https://community-storage.element14.com/communityserver-components-secureimagefileviewer/telligent/evolution/extensions/calendar/calendarfiles/00/00/00/00/71/contentimage_203102.png-294x46.png?sv=2016-05-31&amp;sr=b&amp;sig=lpJK2G%2BjVrM3T%2F%2BgSQEeUbekN0cJwBSIcgLYNR5o2xg%3D&amp;se=2026-04-28T23%3A59%3A59Z&amp;sp=r&amp;_=pgFJjaBD/8NJGCbXUeCn+g==">8NJGCbXUeCn+g==</a></a></span></p><p style="margin:0;padding:0px;">&nbsp;</p><p style="margin:0;">The PAN9520 is a 2.4 GHz 802.11 b/g/n embedded Wi ‑ Fi module based on Espressif ESP32-S2 that includes the powerful Xtensa 32-bit LX7 CPU. An integrated chip antenna, and QSPI memory enable the module to be used in a variety of stand-alone or host-controlled applications.</p><p style="margin:0;padding:0px;">&nbsp;</p><p style="margin:0;">In this webinar you will learn about everything you need to know about the PAN9520, its rich feature set and especially how to get started in terms of Hardware and Software tools. Furthermore, we will showcase the capabilities of the PAN9520 for smart home CCTV applications.</p><p style="margin:0;padding:0px;">&nbsp;</p><h1><span style="color:#3334ca;">Agenda</span></h1><p style="margin:0;padding:0px;">&nbsp;</p><ul><li>Introduction Panasonic Wireless Connectivity</li><li>The new PAN9520 WiFi embedded module</li><li>How to get started – the evaluation kit</li><li>Toolchain Overview</li><li>Demo Case: Using the camera interface with a webserver</li><li>Q&amp;A</li></ul><p style="margin:0;padding:0px;">&nbsp;</p><p style="margin:0;"><span><a href="https://community.element14.com/resized-image/__size/308x164/__key/telligent-evolution-extensions-calendar-calendarfiles/00-00-00-00-71/contentimage_5F00_203103.jpg"><a href="https://community-storage.element14.com/communityserver-components-secureimagefileviewer/telligent/evolution/extensions/calendar/calendarfiles/00/00/00/00/71/contentimage_203103.jpg-308x164.jpg?sv=2016-05-31&amp;sr=b&amp;sig=U9%2BS2YHbNf2RD3Pirao1fzf02SHgq%2BwIGnUZNUfUbKM%3D&amp;se=2026-04-28T23%3A59%3A59Z&amp;sp=r&amp;_=K86jgcR4gkfSqkJcf89dow==">contentimage_203103.jpg-308x164.jpg?sv=2016-05-31&amp;sr=b&amp;sig=U9%2BS2YHbNf2RD3Pirao1fzf02SHgq%2BwIGnUZNUfUbKM%3D&amp;se=2026-04-28T23%3A59%3A59Z&amp;sp=r&amp;_=K86jgcR4gkfSqkJcf89dow==</a></a></span></p><p style="margin:0;"><span><span class="e14-init-shown e14-product-link-buynow" id="addProduct-UxhyQZwQ-linked" style="white-space:nowrap;"><a class="jive-link-product-addtolist" href="https://www.element14.com/community/view-product.jspa?fsku=3771706RL&amp;nsku=53AJ1489&amp;COM=noscript" target="_blank"><span class="pf-widget-map pf-productlink-cart-icon"></span></a><a class="jive-link-product pf-embedded-product-link" href="https://www.element14.com/community/view-product.jspa?fsku=3771706RL&amp;nsku=53AJ1489&amp;COM=noscript" target="_blank">Buy Now</a></span><span class="e14-init-hidden" id="addProduct-UxhyQZwQ-unlinked">Buy Now</span></span></p><p style="margin:0;padding:0px;">&nbsp;</p><p style="margin:0;padding:0px;">&nbsp;</p><p style="margin:0;"><span><a href="https://community.element14.com/resized-image/__size/620x349/__key/telligent-evolution-extensions-calendar-calendarfiles/00-00-00-00-71/contentimage_5F00_212216.png"><a href="https://community-storage.element14.com/communityserver-components-secureimagefileviewer/telligent/evolution/extensions/calendar/calendarfiles/00/00/00/00/71/contentimage_212216.png-620x349.png?sv=2016-05-31&amp;sr=b&amp;sig=8FkGBbJdt4w4Hdd6H6u7Vh3SpAru4aH8IV4lIX5q4mU%3D&amp;se=2026-04-28T23%3A59%3A59Z&amp;sp=r&amp;_=u49pUjhAkjJKS/eWBe8gQQ==">eWBe8gQQ==</a></a></span></p><p style="margin:0;padding:0px;">&nbsp;</p><h1><span style="color:#3334ca;">The Presenter:</span></h1><table border="1" class="jiveBorder mce-item-table" height="409" style="border:1px solid #ffffff;height:auto;width:100%;"><tbody><tr><td style="border:1px solid black;border:1px solid #ffffff;width:50%;padding:6px;"><span><a href="https://community.element14.com/resized-image/__size/200x200/__key/telligent-evolution-extensions-calendar-calendarfiles/00-00-00-00-71/contentimage_5F00_203104.jpg"><a href="https://community-storage.element14.com/communityserver-components-secureimagefileviewer/telligent/evolution/extensions/calendar/calendarfiles/00/00/00/00/71/contentimage_203104.jpg-200x200.jpg?sv=2016-05-31&amp;sr=b&amp;sig=HH3317dIvzbyo80CI%2Fr9Qq%2BL3gR9Okj3zbK76Tg9AHQ%3D&amp;se=2026-04-28T23%3A59%3A59Z&amp;sp=r&amp;_=DqDsZR2d67oEOR4tbmeV+Q==">contentimage_203104.jpg-200x200.jpg?sv=2016-05-31&amp;sr=b&amp;sig=HH3317dIvzbyo80CI%2Fr9Qq%2BL3gR9Okj3zbK76Tg9AHQ%3D&amp;se=2026-04-28T23%3A59%3A59Z&amp;sp=r&amp;_=DqDsZR2d67oEOR4tbmeV+Q==</a></a></span></td><td style="border:1px solid black;border:1px solid #ffffff;width:50%;padding:6px;"><span><a href="https://community.element14.com/resized-image/__size/138x188/__key/telligent-evolution-extensions-calendar-calendarfiles/00-00-00-00-71/contentimage_5F00_203105.png"><a href="https://community-storage.element14.com/communityserver-components-secureimagefileviewer/telligent/evolution/extensions/calendar/calendarfiles/00/00/00/00/71/contentimage_203105.png-138x188.png?sv=2016-05-31&amp;sr=b&amp;sig=TGsv9l4ToFKmEc%2BHZMozACPgGDv7Ht1ld%2F49snNvhR4%3D&amp;se=2026-04-28T23%3A59%3A59Z&amp;sp=r&amp;_=+qn5BMOTZ1GLJq5Le7ePJw==">contentimage_203105.png-138x188.png?sv=2016-05-31&amp;sr=b&amp;sig=TGsv9l4ToFKmEc%2BHZMozACPgGDv7Ht1ld%2F49snNvhR4%3D&amp;se=2026-04-28T23%3A59%3A59Z&amp;sp=r&amp;_=+qn5BMOTZ1GLJq5Le7ePJw==</a></a></span></td></tr><tr><td style="border:1px solid black;border:1px solid #ffffff;width:50%;padding:6px;"><strong>Sabari Nair, Business Development Manager at Panasonic</strong></td><td style="border:1px solid black;border:1px solid #ffffff;width:50%;padding:6px;"><strong>Tomislav Tipura, Product Manager for Wireless Devices <strong>at Panasonic</strong></strong></td></tr><tr><td style="border:1px solid black;border:1px solid #ffffff;width:50%;padding:6px;"><p style="margin:0;">Sabari is a telecommunications engineer with experience in cognitive radio and ad-hoc networks. He started his career as a Systems Engineer for state-of-the-art radar technologies such as ADS-B and Multilateration and later gained experience as a Product Development Manager. Currently he works at Panasonic as a Business Development Manager for IoT products.</p></td><td style="border:1px solid black;border:1px solid #ffffff;width:50%;padding:6px;">Tomislav has studied Electrical Engineering in Munich and obtained a Master of Science degree with a focus on Control Theory in Electrical Drives. After gaining experiences as a working student in R&amp;D and Rapid Prototyping departments in Mechatronics, he started working at Panasonic Industry Europe GmbH as Product Manager for Wireless Devices.</td></tr></tbody></table></body></html>
CLASS:PUBLIC
END:VEVENT
END:VCALENDAR