BEGIN:VCALENDAR
VERSION:2.0
METHOD:PUBLISH
BEGIN:VEVENT
ORGANIZER:MAILTO:
DTSTART:20211111T150000Z
DTEND:20211111T160000Z
LOCATION:On24
SUMMARY:Learn How to Connect an Environmental Sensor-to-App Using Bluetooth 5
DESCRIPTION;ENCODING=QUOTED-PRINTABLE:mBw== The PAN1781 Series RF Module is a Bluetooth 5 Low Energy (LE) device featuring the Nordic nRF52820 Single-Chip Controller and is ideal for IoT Wireless Connectivity applications. With the Cortex M4 processor, 32 kB RAM, and the built-in 256 kB flash memory, the PAN1781 can easily be used in standalone mode, thereby eliminating the need for an external processor, saving complexity, space, and cost. Ultra low power consumption of as low as 0.4uA in deep sleep mode and 4.9mA in Tx mode offers an attractive solution for battery powered sensor applications. In this webinar you will learn about the new PAN1781 as the lightweight solution next to the PAN1780. You will get to know about its toolchain from the evaluation kit, Software tools up to the App. We will show case using the PAN1781 to easily read out ambience sensor data and transmit it to a smartphone app via Bluetooth Low Energy. Agenda Introduction Panasonic Wireless Connectivity The new lightweight PAN1781 Bluetooth 5 module How to get started – the evaluation kit Toolchain Overview Demo Case: The connected environmental sensor – from sensor to App Q&amp;A m5Q== Buy Now Buy Now contentimage_214042.png-604x334.png?sv=2016-05-31&amp;sr=b&amp;sig=thphphpzBAyK8dgRZCDV8xXnQx%2BRBI%2FoUXHML%2BwnVac%3D&amp;se=2026-05-01T23%3A59%3A59Z&amp;sp=r&amp;_=c60srrAkPSyIwS8IQHwTSw== The Presenter: contentimage_210888.jpg-172x172.jpg?sv=2016-05-31&amp;sr=b&amp;sig=dfAiUJMykRboLemgIvS8YaB16BoHhd2o%2Bj6iQ%2F1R5KY%3D&amp;se=2026-05-01T23%3A59%3A59Z&amp;sp=r&amp;_=oLu86KU32gu0rg5RkGsxkA== contentimage_210889.png-138x188.png?sv=2016-05-31&amp;sr=b&amp;sig=Z2f2tU1nmJCIn%2B%2B72Rho7Jy%2BYS2L%2BLxeyZSFgHpFmlo%3D&amp;se=2026-05-01T23%3A59%3A59Z&amp;sp=r&amp;_=+qn5BMOTZ1GLJq5Le7ePJw== Chetan Joshi, Business Development Manager at Panasonic Tomislav Tipura, Product Manager for Wireless Devices at Panasonic RF engineer currently working as Business Development Manager at Panasonic Industry Europe GmbH. Previously, pursued and awarded PhD. at Telecom Paristech (now Université Paris-Saclay) for original research work on conformal antenna design for aircraft using metamaterials and transformation optics. I have worked on printed surfaces with artificial properties and 3D printed superstrate kind of devices to control antenna&#39;s radiation behaviour. I completed my Masters from ENSEEIHT, Toulouse. My masters thesis was on design of coupled resonator filters. I have a background in electronics and communication engineering, with specialization in RF and Microwave Engineering Tomislav has studied Electrical Engineering in Munich and obtained a Master of Science degree with a focus on Control Theory in Electrical Drives. After gaining experiences as a working student in R&amp;D and Rapid Prototyping departments in Mechatronics, he started working at Panasonic Industry Europe GmbH as Product Manager for Wireless Devices.
X-ALT-DESC;FMTTYPE=text/html:<html><body><p style="margin:0;"><span><a href="https://community.element14.com/resized-image/__size/255x40/__key/telligent-evolution-extensions-calendar-calendarfiles/00-00-00-00-71/contentimage_5F00_210887.png"><a href="https://community-storage.element14.com/communityserver-components-secureimagefileviewer/telligent/evolution/extensions/calendar/calendarfiles/00/00/00/00/71/contentimage_210887.png-255x40.png?sv=2016-05-31&amp;sr=b&amp;sig=A0NSndHtJhFvYUyOCyVfQ3lJjgU%2BP3v0ZpY8smMRx7s%3D&amp;se=2026-05-01T23%3A59%3A59Z&amp;sp=r&amp;_=v8h7bkaUTP45UZaMNC/mBw==">mBw==</a></a></span></p><p style="margin:0;padding:0px;">&nbsp;</p><p style="margin:0;"><span style="color:#000000;font-family:Arial;">The </span><span style="font-weight:bold;font-family:Arial;color:#000000;">PAN1781 Series RF Module </span><span style="color:#000000;font-family:Arial;">is a Bluetooth 5 Low Energy (LE) device&nbsp; featuring the Nordic nRF52820 Single-Chip Controller and is ideal for IoT Wireless Connectivity applications. </span></p><p style="margin:0;padding:0px;">&nbsp;</p><p style="margin:0;">With the Cortex M4 processor, 32 kB RAM, and the built-in 256 kB flash memory, the PAN1781 can easily be used in standalone mode, thereby eliminating the need for an external processor, saving complexity, space, and cost. Ultra low power consumption of as low as 0.4uA in deep sleep mode and 4.9mA in Tx mode offers an attractive solution for battery powered sensor applications.</p><p style="margin:0;padding:0px;">&nbsp;</p><p style="margin:0;">In this webinar you will learn about the new PAN1781 as the lightweight solution next to the PAN1780.&nbsp; You will get to know about its toolchain from the evaluation kit, Software tools up to the App. We will show case using the PAN1781 to easily read out ambience sensor data and transmit it to a smartphone app via Bluetooth Low Energy.</p><p style="margin:0;padding:0px;">&nbsp;</p><h1 style="font-family:Arial, &#39;Lucida Grande&#39;, sans-serif;color:#333333;"><span style="font-weight:inherit;font-style:inherit;font-family:inherit;color:#3334ca;">Agenda</span></h1><p style="margin:0;padding:0px;">&nbsp;</p><ul><li>Introduction Panasonic Wireless Connectivity</li><li>The new lightweight PAN1781 Bluetooth 5 module</li><li>How to get started – the evaluation kit</li><li>Toolchain Overview</li><li>Demo Case: The connected environmental sensor – from sensor to App</li><li>Q&amp;A</li></ul><p style="margin:0;"><span><a href="https://community.element14.com/resized-image/__size/320x194/__key/telligent-evolution-extensions-calendar-calendarfiles/00-00-00-00-71/contentimage_5F00_214041.jpg"><a href="https://community-storage.element14.com/communityserver-components-secureimagefileviewer/telligent/evolution/extensions/calendar/calendarfiles/00/00/00/00/71/contentimage_214041.jpg-320x194.jpg?sv=2016-05-31&amp;sr=b&amp;sig=EQ2%2F7H8%2FSn1ubGRkx517NaUAamaGsz1eGuEP0NI%2FWuc%3D&amp;se=2026-05-01T23%3A59%3A59Z&amp;sp=r&amp;_=1XJsLJKWFM3VE2JEMx/m5Q==">m5Q==</a></a></span></p><p style="margin:0;"><span><span class="e14-init-shown e14-product-link-buynow" id="addProduct-eWFiTV2J-linked" style="white-space:nowrap;"><a class="jive-link-product-addtolist" href="https://www.element14.com/community/view-product.jspa?fsku=3771705&amp;nsku=53AJ1490&amp;COM=noscript" target="_blank"><span class="pf-widget-map pf-productlink-cart-icon"></span></a><a class="jive-link-product pf-embedded-product-link" href="https://www.element14.com/community/view-product.jspa?fsku=3771705&amp;nsku=53AJ1490&amp;COM=noscript" target="_blank">Buy Now</a></span><span class="e14-init-hidden" id="addProduct-eWFiTV2J-unlinked">Buy Now</span></span></p><p style="margin:0;padding:0px;">&nbsp;</p><p style="margin:0;"><span><a href="https://community.element14.com/resized-image/__size/604x334/__key/telligent-evolution-extensions-calendar-calendarfiles/00-00-00-00-71/contentimage_5F00_214042.png"><a href="https://community-storage.element14.com/communityserver-components-secureimagefileviewer/telligent/evolution/extensions/calendar/calendarfiles/00/00/00/00/71/contentimage_214042.png-604x334.png?sv=2016-05-31&amp;sr=b&amp;sig=thphphpzBAyK8dgRZCDV8xXnQx%2BRBI%2FoUXHML%2BwnVac%3D&amp;se=2026-05-01T23%3A59%3A59Z&amp;sp=r&amp;_=c60srrAkPSyIwS8IQHwTSw==">contentimage_214042.png-604x334.png?sv=2016-05-31&amp;sr=b&amp;sig=thphphpzBAyK8dgRZCDV8xXnQx%2BRBI%2FoUXHML%2BwnVac%3D&amp;se=2026-05-01T23%3A59%3A59Z&amp;sp=r&amp;_=c60srrAkPSyIwS8IQHwTSw==</a></a></span></p><p style="margin:0;padding:0px;">&nbsp;</p><h1><span style="color:#3334ca;">The Presenter:</span></h1><table border="1" class="jiveBorder mce-item-table" height="409" style="border:1px solid #ffffff;height:auto;width:100%;"><tbody><tr><td style="border:1px solid black;border:1px solid #ffffff;width:50%;padding:6px;"><span><a href="https://community.element14.com/resized-image/__size/172x172/__key/telligent-evolution-extensions-calendar-calendarfiles/00-00-00-00-71/contentimage_5F00_210888.jpg"><a href="https://community-storage.element14.com/communityserver-components-secureimagefileviewer/telligent/evolution/extensions/calendar/calendarfiles/00/00/00/00/71/contentimage_210888.jpg-172x172.jpg?sv=2016-05-31&amp;sr=b&amp;sig=dfAiUJMykRboLemgIvS8YaB16BoHhd2o%2Bj6iQ%2F1R5KY%3D&amp;se=2026-05-01T23%3A59%3A59Z&amp;sp=r&amp;_=oLu86KU32gu0rg5RkGsxkA==">contentimage_210888.jpg-172x172.jpg?sv=2016-05-31&amp;sr=b&amp;sig=dfAiUJMykRboLemgIvS8YaB16BoHhd2o%2Bj6iQ%2F1R5KY%3D&amp;se=2026-05-01T23%3A59%3A59Z&amp;sp=r&amp;_=oLu86KU32gu0rg5RkGsxkA==</a></a></span></td><td style="border:1px solid black;border:1px solid #ffffff;width:50%;padding:6px;"><span><a href="https://community.element14.com/resized-image/__size/138x188/__key/telligent-evolution-extensions-calendar-calendarfiles/00-00-00-00-71/contentimage_5F00_210889.png"><a href="https://community-storage.element14.com/communityserver-components-secureimagefileviewer/telligent/evolution/extensions/calendar/calendarfiles/00/00/00/00/71/contentimage_210889.png-138x188.png?sv=2016-05-31&amp;sr=b&amp;sig=Z2f2tU1nmJCIn%2B%2B72Rho7Jy%2BYS2L%2BLxeyZSFgHpFmlo%3D&amp;se=2026-05-01T23%3A59%3A59Z&amp;sp=r&amp;_=+qn5BMOTZ1GLJq5Le7ePJw==">contentimage_210889.png-138x188.png?sv=2016-05-31&amp;sr=b&amp;sig=Z2f2tU1nmJCIn%2B%2B72Rho7Jy%2BYS2L%2BLxeyZSFgHpFmlo%3D&amp;se=2026-05-01T23%3A59%3A59Z&amp;sp=r&amp;_=+qn5BMOTZ1GLJq5Le7ePJw==</a></a></span></td></tr><tr><td style="border:1px solid black;border:1px solid #ffffff;width:50%;padding:6px;"><strong>Chetan Joshi, Business Development Manager at Panasonic</strong></td><td style="border:1px solid black;border:1px solid #ffffff;width:50%;padding:6px;"><strong>Tomislav Tipura, Product Manager for Wireless Devices <strong>at Panasonic</strong></strong></td></tr><tr><td style="border:1px solid black;border:1px solid #ffffff;width:50%;padding:6px;"><p style="margin:0;">RF engineer currently working as Business Development Manager at Panasonic Industry Europe GmbH. Previously, pursued and awarded PhD. at Telecom Paristech (now Université Paris-Saclay) for original research work on conformal antenna design for aircraft using metamaterials and transformation optics. I have worked on printed surfaces with artificial properties and 3D printed superstrate kind of devices to control antenna&#39;s radiation behaviour. I completed my Masters from ENSEEIHT, Toulouse. My masters thesis was on design of coupled resonator filters. I have a background in electronics and communication engineering, with specialization in RF and Microwave Engineering</p></td><td style="border:1px solid black;border:1px solid #ffffff;width:50%;padding:6px;">Tomislav has studied Electrical Engineering in Munich and obtained a Master of Science degree with a focus on Control Theory in Electrical Drives. After gaining experiences as a working student in R&amp;D and Rapid Prototyping departments in Mechatronics, he started working at Panasonic Industry Europe GmbH as Product Manager for Wireless Devices.</td></tr></tbody></table></body></html>
CLASS:PUBLIC
END:VEVENT
END:VCALENDAR