BEGIN:VCALENDAR
VERSION:2.0
METHOD:PUBLISH
BEGIN:VEVENT
ORGANIZER:MAILTO:
DTSTART:20220420T160000Z
DTEND:20220420T170000Z
LOCATION:On24
SUMMARY:Maximizing Vivado Efficiency with Board Awareness
DESCRIPTION;ENCODING=QUOTED-PRINTABLE:logo_2D00_amd_2D00_xilinx.jpeg \n Creating A Custom Board Definition \n Getting started with an AMD-Xilinx design is much easier if you use a development board. AMD-Xilinx, Avnet, and other partners have a wide variety of development boards available with accompanying &ldquo;Board Definition&rdquo; files from the XilinxBoardStore that allow AMD-Xilinx&rsquo;s Vivado tool to become &ldquo;board-aware.&rdquo; This makes it very simple to create a block design and add IP that is present on the board, which Vivado then automatically connects and constrains. Not only does it make it easier to get started, this &ldquo;board-awareness&rdquo; also allows huge increases in efficiency as multiple designs can be designed quickly. Since AMD-Xilinx, Avnet, and other partners provide these board definition archives, a typical user will never need to create that archive for a development board. But what happens when a custom board is developed? Is it possible for engineers to create their own board definitions that make Vivado &ldquo;aware&rdquo; of their new custom board? Yes! While the capability to create these Board Definition archive is in the documentation, it is still a challenging task. This webinar is intended to simplify the process of creating your own custom board definition, starting from a template provided by Avnet. \n What You Will Learn In This Webinar: \n \n Understand what Vivado &ldquo;board awareness&rdquo; is \n Learn the critical elements in a board definition archive \n See how to generate PS and PL parameters for a custom board definition \n Use a template to create and install a custom board definition \n \n image004.png \n 006.jpeg \n The Presenter \n \n \n \n fletcher_5F00_b.jpg \n \n \n Bryan Fletcher, Technical Marketing Director at Avnet \n \n \n I&#39;ve been a fan of programmable logic technology since early in my career at Hewlett-Packard and Evans &amp; Sutherland. I work now in Avnet&#39;s Products &amp; Emerging Technologies group. I&rsquo;ve worked on many development boards over the years, including ZedBoard and Ultra96-V2. I previously supported programmable logic designs as a Field Applications Engineer.
X-ALT-DESC;FMTTYPE=text/html:<html><body><p><strong><em><a href="https://community.element14.com/resized-image/__size/568x320/__key/telligent-evolution-extensions-calendar-calendarfiles/00-00-00-00-71/logo_2D00_amd_2D00_xilinx.jpeg">logo_2D00_amd_2D00_xilinx.jpeg</a></em></strong></p><p><strong><em></em></strong><strong><em>Creating A Custom Board Definition</em></strong></p><p>Getting started with an AMD-Xilinx design is much easier if you use a development board. AMD-Xilinx, Avnet, and other partners have a wide variety of development boards available with accompanying &ldquo;Board Definition&rdquo; files from the XilinxBoardStore that allow AMD-Xilinx&rsquo;s Vivado tool to become &ldquo;board-aware.&rdquo; This makes it very simple to create a block design and add IP that is present on the board, which Vivado then automatically connects and constrains. Not only does it make it easier to get started, this &ldquo;board-awareness&rdquo; also allows huge increases in efficiency as multiple designs can be designed quickly. Since AMD-Xilinx, Avnet, and other partners provide these board definition archives, a typical user will never need to create that archive for a development board. But what happens when a custom board is developed? Is it possible for engineers to create their own board definitions that make Vivado &ldquo;aware&rdquo; of their new custom board? Yes! While the capability to create these Board Definition archive is in the documentation, it is still a challenging task. This webinar is intended to simplify the process of creating your own custom board definition, starting from a template provided by Avnet.</p><p><strong>What You Will Learn In This Webinar:</strong></p><ul><li>Understand what Vivado &ldquo;board awareness&rdquo; is</li><li>Learn the critical elements in a board definition archive</li><li>See how to generate PS and PL parameters for a custom board definition</li><li>Use a template to create and install a custom board definition</li></ul><p><a href="https://community.element14.com/resized-image/__size/1280x720/__key/telligent-evolution-extensions-calendar-calendarfiles/00-00-00-00-71/image004.png">image004.png</a></p><h2 id="mcetoc_1fup72fih0"><a href="https://community.element14.com/resized-image/__size/1280x720/__key/telligent-evolution-extensions-calendar-calendarfiles/00-00-00-00-71/006.jpeg">006.jpeg</a></h2><h2 id="mcetoc_1fumrrniu0">The Presenter</h2><table><tbody><tr><td><a href="https://community.element14.com/resized-image/__size/1280x720/__key/telligent-evolution-extensions-calendar-calendarfiles/00-00-00-00-71/fletcher_5F00_b.jpg">fletcher_5F00_b.jpg</a></td></tr><tr><td>Bryan Fletcher, Technical Marketing Director at Avnet</td></tr><tr><td>I&#39;ve been a fan of programmable logic technology since early in my career at Hewlett-Packard and Evans &amp; Sutherland. I work now in Avnet&#39;s Products &amp; Emerging Technologies group. I&rsquo;ve worked on many development boards over the years, including ZedBoard and Ultra96-V2. I previously supported programmable logic designs as a Field Applications Engineer.</td></tr></tbody></table></body></html>
CLASS:PUBLIC
END:VEVENT
END:VCALENDAR