BEGIN:VCALENDAR
VERSION:2.0
METHOD:PUBLISH
BEGIN:VEVENT
ORGANIZER:MAILTO:
DTSTART:20220615T160000Z
DTEND:20220615T170000Z
LOCATION:On24
SUMMARY:Using LabVIEW to control your Instruments (Earn a Free Trial and Certificate)
DESCRIPTION;ENCODING=QUOTED-PRINTABLE:0x0.jpeg \n Attendees will Receive a 45 Day Trial of LabVIEW as well as a Certificate \n LabVIEW is a programming environment built for engineers in Test and Measurement with unparalleled device connectivity and extensive libraries for data visualization and signal processing. LabVIEW can automate any instrument, regardless of vendor or bus type, with thousands of free drivers. \n \n During this presentation you will learn about basic LabView features for instrument control, how to download instrument drivers for your instrument, and top use cases and benefits to automating instruments with Labview. \n \n What you will learn by attending: \n \n Basic LabVIEW features for instrument control \n How to download instrument drivers for your instrument \n top use cases and benefits to automating with LabVIEW \n \n Attend and Learn to Earn a Certificate: \n \n Following this presentation there will be a short quiz to test your knowledge. Complete the quiz and watch the presentation either live or On Demand to earn a certificate. If you attend and demonstrate what you have learned, your certificate will be emailed to you. \n \n contentimage_5F00_215308.jpg \n \n To Earn a Certificate: \n \n \n \n View at least 30 minutes of the presentation \n Score a 100% on the quiz \n \n \n \n 2902311_2D00_LabVIEWInstrumentsWebinar_2D00_Twitter.png \n The Presenter \n \n \n \n image001.png \n \n \n Austin Stanton, Senior Solution Marketer at National Instruments \n \n \n Austin Stanton has previously worked at NI as an Applications Engineering and as a Product Marketer for PXI and Modular Instruments. His current role as a Solution Marketer focuses on NI&#39;s Test and NI&#39;s Production Test Solutions. Austin leverages the time he spent working with these products as an AE to better communicate their value. Before working at NI, Austin worked at Digilent making fun LabVIEW project using their hardware. Austin holds a BS in Biomechanical Engineering from Washington State University. He spends his time watching and playing soccer, making DIY electronics projects and enjoying the great music and fun night life that Austin (the city) has to offer.
X-ALT-DESC;FMTTYPE=text/html:<html><body><p class="paragraph"><span class="normaltextrun"><span><a href="https://community.element14.com/resized-image/__size/494x278/__key/telligent-evolution-extensions-calendar-calendarfiles/00-00-00-00-71/0x0.jpeg">0x0.jpeg</a></span></span></p><h2 class="paragraph"><span class="normaltextrun"></span>Attendees will Receive a 45 Day Trial of LabVIEW as well as a Certificate</h2><p class="paragraph"><span class="normaltextrun"><span>LabVIEW is a programming environment built for engineers in Test and Measurement with unparalleled device connectivity and extensive libraries for data visualization and signal processing. LabVIEW can automate any instrument, regardless of vendor or bus type, with thousands of free drivers.</span></span></p><p class="paragraph"><span class="normaltextrun"><span></span></span></p><p class="paragraph"><span>During this presentation you will learn about basic LabView features for instrument control, how to download instrument drivers for your instrument, and top use cases and benefits to automating instruments with Labview.</span></p><p class="paragraph"><span></span></p><p class="paragraph"><span>What you will learn by attending:</span></p><ul><li class="paragraph"><span>Basic LabVIEW features for instrument control</span></li><li class="paragraph"><span>How to download instrument drivers for your instrument</span></li><li class="paragraph"><span>top use cases and benefits to automating with LabVIEW</span></li></ul><h2 id="mcetoc_1ft5m2ia32" style="color:#333333;font-family:Arial, &#39;Lucida Grande&#39;, sans-serif;"><span style="color:#3334ca;font-family:inherit;font-style:inherit;font-weight:inherit;">Attend and Learn to Earn a Certificate:</span></h2><p style="color:#333333;font-family:Arial, &#39;Lucida Grande&#39;, sans-serif;margin:0;padding:0px;">&nbsp;</p><p style="margin:0;">Following this presentation there will be a short quiz to test your knowledge.&nbsp; Complete the quiz and watch the presentation either live or On Demand to earn a certificate.&nbsp; If you attend and demonstrate what you have learned, your certificate will be emailed to you.</p><p style="margin:0;padding:0px;"></p><p style="margin:0;padding:0px;"><span style="font-family:inherit;"><a href="https://community.element14.com/resized-image/__size/476x368/__key/telligent-evolution-extensions-calendar-calendarfiles/00-00-00-00-71/contentimage_5F00_215308.jpg">contentimage_5F00_215308.jpg</a> </span></p><p style="margin:0;"><strong></strong></p><p style="margin:0;"><strong>To Earn a Certificate:</strong></p><p style="margin:0;padding:0px;">&nbsp;</p><p style="margin:0;padding:0px;"></p><ul><li>View at least 30 minutes of the presentation</li><li>Score a 100% on the quiz</li></ul><p style="margin:0;padding:0px;">&nbsp;</p><p style="margin:0;padding:0px;">&nbsp;</p><p><span><a href="https://community.element14.com/resized-image/__size/1280x720/__key/telligent-evolution-extensions-calendar-calendarfiles/00-00-00-00-71/2902311_2D00_LabVIEWInstrumentsWebinar_2D00_Twitter.png">2902311_2D00_LabVIEWInstrumentsWebinar_2D00_Twitter.png</a></span></p><h2 id="mcetoc_1g0kqiohr0"><span>The Presenter</span></h2><table><tbody><tr><td><a href="https://community.element14.com/resized-image/__size/418x566/__key/telligent-evolution-extensions-calendar-calendarfiles/00-00-00-00-71/image001.png">image001.png</a></td></tr><tr><td>Austin Stanton,&nbsp;<span>Senior Solution Marketer at National Instruments</span></td></tr><tr><td>Austin Stanton has previously worked at NI as an Applications Engineering and as a Product Marketer for PXI and Modular Instruments. His current role as a Solution Marketer focuses on NI&#39;s Test and NI&#39;s Production Test Solutions. Austin leverages the time he spent working with these products as an AE to better communicate their value. Before working at NI, Austin worked at Digilent making fun LabVIEW project using their hardware. Austin holds a BS in Biomechanical Engineering from Washington State University. He spends his time watching and playing soccer, making DIY electronics projects and enjoying the great music and fun night life that Austin (the city) has to offer.</td></tr></tbody></table></body></html>
CLASS:PUBLIC
END:VEVENT
END:VCALENDAR