BEGIN:VCALENDAR
VERSION:2.0
METHOD:PUBLISH
BEGIN:VEVENT
ORGANIZER:MAILTO:
DTSTART:20220413T000000Z
DTEND:20220622T010000Z
LOCATION:On24
SUMMARY:i.MX8M and RT Platform Discovery (Avnet MaaXBoard)
DESCRIPTION;ENCODING=QUOTED-PRINTABLE:Join Avnet for an NXP platform discovery series featuring the MaaXBoard and MaaXBoard RT devices. \n \n MaaXBoard SBCs are designed based on NXP&rsquo;s low cost, feature rich i.MX processors and contain everything necessary for embedded computing and smart edge IoT applications with Linux, Android and RTOS based systems. This free workshop series also features webinars where users will meet the Avnet Field Application Engineers, discuss pre-work, time investments and benefit from live Q&amp;A. After each webinar, registrants will be emailed a link to the associated on-demand workshop recording. \n \n Registrants will also be given preferred access to discounted MaaXBoard devices (optional purchase). \n \n WHY TAKE THE WORKSHOP? \n \n Participate in a free training series for MaaXBoard devices \n Access to Avnet FAE&#39;s, pre-work, and live Q&amp;A during each of the training sessions \n Optional 10% discount on the 8M and/or RT MaaXBoard \n \n \n Track #1 : MaaXBoard i.MX 8M \n \n How to use Gstreamer \n Multi-Core Basics and Device Trees \n Customizing your i.MX 8 Series Yocto \n \n \n Track #2 : MaaXBoard RT \n \n GUI displays using LVGL \n TensorFlowLite Object Recognition \n Voice User Interface using VIT \n \n Register Now \n A22_5F00_816_5F00_NXP-MaaXBoard-Webinar-Series_5F00_e14_5F00_604x334.jpg
X-ALT-DESC;FMTTYPE=text/html:<html><body><p style="font-weight:400;">Join Avnet for an NXP platform discovery series featuring the MaaXBoard and MaaXBoard RT devices.</p><p style="font-weight:400;">&nbsp;</p><p style="font-weight:400;">MaaXBoard SBCs are designed based on NXP&rsquo;s low cost, feature rich i.MX processors and contain everything necessary for embedded computing and smart edge IoT applications with Linux, Android and RTOS based systems. This&nbsp;<u>free</u><strong>&nbsp;</strong>workshop series also features webinars where users will meet the Avnet Field Application Engineers, discuss pre-work, time investments and benefit from live Q&amp;A. After each webinar, registrants will be emailed a link to the associated on-demand workshop recording.</p><p style="font-weight:400;">&nbsp;</p><p style="font-weight:400;">Registrants will also be given preferred access to discounted MaaXBoard devices (optional purchase).</p><p style="font-weight:400;">&nbsp;</p><p style="font-weight:400;"><strong>WHY TAKE THE WORKSHOP?</strong></p><ul style="font-weight:400;"><li>Participate in a free training series for MaaXBoard devices</li><li>Access to Avnet FAE&#39;s, pre-work, and live Q&amp;A during each of the training sessions</li><li>Optional 10% discount on the 8M and/or RT MaaXBoard</li></ul><p style="font-weight:400;">&nbsp;</p><p style="font-weight:400;"><strong>Track #1</strong>:&nbsp;MaaXBoard i.MX 8M</p><ul style="font-weight:400;"><li>How to use Gstreamer</li><li>Multi-Core Basics and Device Trees</li><li>Customizing your i.MX 8 Series Yocto</li></ul><p style="font-weight:400;">&nbsp;</p><p style="font-weight:400;"><strong>Track #2</strong>:&nbsp;MaaXBoard RT</p><ul style="font-weight:400;"><li>GUI displays using LVGL</li><li>TensorFlowLite Object Recognition</li><li>Voice User Interface using VIT</li></ul><p style="font-weight:400;">&nbsp;<span ><a class="e14-button e14-button--primary e14-button--large" href="https://web.cvent.com/event/618a13f4-ae42-4f04-8fb9-975989c73ae0/summary?RefId=NXP%20Series" title="Register Now" title="Register Now">Register Now</a></span></p><p style="font-weight:400;"><a href="https://community.element14.com/resized-image/__size/1280x720/__key/telligent-evolution-extensions-calendar-calendarfiles/00-00-00-00-71/A22_5F00_816_5F00_NXP-MaaXBoard-Webinar-Series_5F00_e14_5F00_604x334.jpg">A22_5F00_816_5F00_NXP-MaaXBoard-Webinar-Series_5F00_e14_5F00_604x334.jpg</a></p></body></html>
CLASS:PUBLIC
END:VEVENT
END:VCALENDAR