BEGIN:VCALENDAR
VERSION:2.0
METHOD:PUBLISH
BEGIN:VEVENT
ORGANIZER:MAILTO:
DTSTART:20221027T160000Z
DTEND:20221027T170000Z
LOCATION:On24
SUMMARY:Everything You Need to Know About RF and Ceramic Capacitors (Win an RF and Microwave Ceramic Capacitor Kit)!
DESCRIPTION;ENCODING=QUOTED-PRINTABLE:3021660_2D00_MysteryCeramicRFCapsWebinar_2D00_Twitter.png \n Register and Attend for a Chance to Win an RF and Microwave Ceramic Capacitor Kit! \n \n Take a deep dive into what makes a radio frequency capacitor unique and the roles they play in the innovative future with KEMET&#39;s HiQ-CBR Series \n \n This webinar is intended for design engineers. In this webinar we&#39;ll be giving you a brief overview of RF, talk about RF applications, go over the basics of ceramic capacitors, before taking a deep look into ceramic RF capacitors. The attendees who ask the best questions will win a free RF and Microwave Ceramic kit from Kemet. There will be between 2-3 kits available for you to win! \n Radio Frequency devices are used in our daily lives as everything moves towards wireless functionality. In this design space, engineers now have to use specialty RF capacitors in order to achieve higher frequency bands. Through our webinar learn the basics of a RF capacitor and what characteristics are important when designing with these capacitors. \n What you will learn by attending: \n \n What is RF? \n RF Applications \n Ceramic Capacitor Basics \n What are RF Capacitors \n KEMET HiQ-CBR Series \n Characterization and E2Di \n \n Win a RF and Microwave Ceramic Capacitor Kit: \n \n \n \n s_2D00_l400.jpeg \n \n \n RF and Microwave Ceramic Capacitor Kit \n \n \n \n \n CER ENG Kit 43 Datasheet \n CER ENG Kit 44 Datasheet \n CER ENG Kit 45 Datasheet \n \n \n \n \n \n \n Attend and Learn to Earn a Certificate: \n Following this presentation there will be a short quiz to test your knowledge. Complete the quiz and watch the presentation either live or On Demand to earn a certificate. If you attend and demonstrate what you have learned, your certificate will be emailed to you. \n \n contentimage_5F00_215308.jpg \n \n To Earn a Certificate: \n \n \n View at least 30 minutes of the presentation \n Score a 100% on the quiz \n \n \n The Presenter: \n \n \n \n Headshotf.jpeg \n \n \n \n \n \n Jake Michels, Technical Marketing Engineer at KEMET Electronics Corp \n \n \n Jake Michels is a Technical Marketing Engineer for KEMET Electronics Corporation building technical material for electrical engineers in design. In his current role he works various product groups to create learning material on a wide variety of topics. He spends his off time building various DIY projects and camping.
X-ALT-DESC;FMTTYPE=text/html:<html><body><p><em><a href="https://community.element14.com/resized-image/__size/658x370/__key/telligent-evolution-extensions-calendar-calendarfiles/00-00-00-00-71/3021660_2D00_MysteryCeramicRFCapsWebinar_2D00_Twitter.png">3021660_2D00_MysteryCeramicRFCapsWebinar_2D00_Twitter.png</a></em></p><h2 id="mcetoc_1ftq7c4g40">Register and Attend for a Chance to Win an RF and Microwave Ceramic Capacitor Kit!</h2><p></p><p><em>Take a deep dive into what makes a radio frequency capacitor unique and the roles they play in the innovative future with KEMET&#39;s HiQ-CBR Series</em></p><p></p><p>This webinar is intended for design engineers.&nbsp; In this webinar we&#39;ll be giving you a brief overview of RF, talk about RF applications, go over the basics of ceramic capacitors, before taking a deep look into ceramic RF capacitors.&nbsp;&nbsp;<strong>The attendees who ask the best questions will win a free RF and Microwave Ceramic kit</strong><span>&nbsp;from Kemet.&nbsp; &nbsp;There will be between 2-3 kits available for you to win!</span></p><p>Radio Frequency devices are used in our daily lives as everything moves towards wireless functionality. In this design space, engineers now have to use specialty RF capacitors in order to achieve higher frequency bands. Through our webinar learn the basics of a RF capacitor and what characteristics are important when designing with these capacitors.</p><p><strong>What you will learn by attending:</strong></p><ul><li>What is RF?</li><li>RF Applications</li><li>Ceramic Capacitor Basics</li><li>What are RF Capacitors</li><li>KEMET HiQ-CBR Series</li><li>Characterization and E2Di</li></ul><h2 id="mcetoc_1ft5m2ia32" style="color:#333333;font-family:Arial, &#39;Lucida Grande&#39;, sans-serif;"><span style="color:#3334ca;font-family:inherit;font-style:inherit;font-weight:inherit;">Win a RF and Microwave Ceramic Capacitor Kit:</span></h2><table><tbody><tr><td><a href="https://community.element14.com/resized-image/__size/1280x720/__key/telligent-evolution-extensions-calendar-calendarfiles/00-00-00-00-71/s_2D00_l400.jpeg">s_2D00_l400.jpeg</a></td></tr><tr><td>RF and Microwave Ceramic Capacitor Kit</td></tr><tr><td><ul><li><a href="https://community.element14.com/cfs-file/__key/telligent-evolution-extensions-calendar-calendarfiles/00-00-00-00-71/CER-ENG-KIT-43-Datasheet.pdf">CER ENG Kit 43 Datasheet</a></li><li><a href="https://community.element14.com/cfs-file/__key/telligent-evolution-extensions-calendar-calendarfiles/00-00-00-00-71/CER-ENG-KIT-44-Datasheet.pdf">CER ENG Kit 44 Datasheet</a></li><li><a href="https://community.element14.com/cfs-file/__key/telligent-evolution-extensions-calendar-calendarfiles/00-00-00-00-71/CER-ENG-KIT-45-Datasheet.pdf">CER ENG Kit 45 Datasheet</a></li></ul></td></tr></tbody></table><h2 id="mcetoc_1gefgbq9h0" style="color:#333333;font-family:Arial, &#39;Lucida Grande&#39;, sans-serif;">&nbsp;</h2><h2 id="mcetoc_1ft5m2ia32" style="color:#333333;font-family:Arial, &#39;Lucida Grande&#39;, sans-serif;"><span style="color:#3334ca;font-family:inherit;font-style:inherit;font-weight:inherit;">Attend and Learn to Earn a Certificate:</span>&nbsp;</h2><p style="margin:0;">Following this presentation there will be a short quiz to test your knowledge.&nbsp; Complete the quiz and watch the presentation either live or On Demand to earn a certificate.&nbsp; If you attend and demonstrate what you have learned, your certificate will be emailed to you.</p><p style="margin:0;padding:0px;"></p><p style="margin:0;padding:0px;"><span style="font-family:inherit;"><a href="https://community.element14.com/resized-image/__size/476x368/__key/telligent-evolution-extensions-calendar-calendarfiles/00-00-00-00-71/contentimage_5F00_215308.jpg">contentimage_5F00_215308.jpg</a> </span></p><p style="margin:0;"><strong></strong></p><p style="margin:0;"><strong>To Earn a Certificate:</strong></p><p style="margin:0;padding:0px;">&nbsp;</p><ul><li>View at least 30 minutes of the presentation</li><li>Score a 100% on the quiz</li></ul><p style="margin:0;padding:0px;">&nbsp;</p><h2 id="mcetoc_1ga1msmab0">The Presenter:</h2><table><tbody><tr><td><a href="https://community.element14.com/resized-image/__size/396x474/__key/telligent-evolution-extensions-calendar-calendarfiles/00-00-00-00-71/Headshotf.jpeg">Headshotf.jpeg</a></td></tr><tr><td></td></tr><tr><td><strong>Jake Michels, Technical Marketing Engineer at KEMET Electronics Corp</strong></td></tr><tr><td>Jake Michels is a Technical Marketing Engineer for KEMET Electronics Corporation building technical material for electrical engineers in design.&nbsp; In his current role he works various product groups to create learning material on a wide variety of topics.&nbsp; He spends his off time building various DIY projects and camping.</td></tr></tbody></table></body></html>
CLASS:PUBLIC
END:VEVENT
END:VCALENDAR