BEGIN:VCALENDAR
VERSION:2.0
METHOD:PUBLISH
BEGIN:VEVENT
ORGANIZER:MAILTO:
DTSTART:20221110T160000Z
DTEND:20221110T170000Z
LOCATION:Online
SUMMARY:At the Core of the PsoC 62 Webinar
DESCRIPTION;ENCODING=QUOTED-PRINTABLE:Live Webinar \n At the Core of the PsoC 62 Webinar \n Part of the At The Core Design Challenge with Infineon 2122.svg Read More about the Challenge Here: /challenges-projects/design-challenges/at-the-core-design-challenge/w/documents/27814/at-the-core-design-challenge-announcement Join us for a free webinar with Clark Jarvis, Software Product Marketing Manager at Infineon Technologies, where we will explore the new development flows related to Cortex-M0+ access and new features of ModusToolbox 3.0. \n Get a jump start on your project for the &ldquo;At the Core&rdquo; design challenge with helpful tips and tricks for leveraging ModusToolbox 3.0 with enhanced support for multi-core project workflows. Ask us questions and expand on your proposal ideas live. \n Host: Clark Jarvis Date: 10th November 2022 16:00 UK Time. \n ClarkJarvis.jpg
X-ALT-DESC;FMTTYPE=text/html:<html><body><p><strong>Live Webinar&nbsp;</strong></p><p><span style="font-size:150%;">At the Core of the PsoC 62 Webinar<br /></span></p><p>Part of the At <strong>The Core Design Challenge with Infineon</strong><span class="emoticon ui-tip" data-unicode="&#x2122;" title="Tm"><a href="https://community.element14.com/cfs-file/__key/system/emoji/2122.svg">2122.svg</a></span><br />Read More about the Challenge Here:&nbsp;&nbsp;<a href="https://community.element14.com/challenges-projects/design-challenges/at-the-core-design-challenge/w/documents/27814/at-the-core-design-challenge-announcement">/challenges-projects/design-challenges/at-the-core-design-challenge/w/documents/27814/at-the-core-design-challenge-announcement</a>&nbsp;<br /><br />Join us for a free webinar with Clark Jarvis, Software Product Marketing Manager at Infineon Technologies, where we will explore the new development flows related to Cortex-M0+ access and new features of ModusToolbox&nbsp;3.0.</p><p>Get a jump start on your project for the &ldquo;At the Core&rdquo; design challenge with helpful tips and tricks for leveraging ModusToolbox&nbsp;3.0 with enhanced support for multi-core project workflows. Ask us questions and expand on your proposal ideas live.</p><p>Host: Clark Jarvis<br />Date: 10th November 2022 16:00 UK Time.</p><p><a href="https://community.element14.com/resized-image/__size/418x512/__key/telligent-evolution-extensions-calendar-calendarfiles/00-00-00-00-71/ClarkJarvis.jpg">ClarkJarvis.jpg</a></p></body></html>
CLASS:PUBLIC
END:VEVENT
END:VCALENDAR