BEGIN:VCALENDAR
VERSION:2.0
METHOD:PUBLISH
BEGIN:VEVENT
ORGANIZER:MAILTO:
DTSTART:20231207T160000Z
DTEND:20231207T170000Z
LOCATION:Online
SUMMARY:Raspberry Pi 5, Raspberry Pi cameras, and their history
DESCRIPTION;ENCODING=QUOTED-PRINTABLE:image-_2800_6_2900_.png \n Raspberry Pi 5 and Cameras and their History. \n \n Introducing Raspberry Pi 5 and its range of compatible cameras \n The Raspberry Pi Global Shutter camera \n Raspberry Pi 5 MIPI connector, new cables, and the hardware choices behind them \n Background about designing the hardware \n A basic set-up guide to Raspberry Pi cameras \n Q&amp;A \n \n The Presenters \n \n \n \n \n JamesHughes_5F00_headshot.jpg \n \n \n James Hughes - Raspberry Pi Principal Software Engineer \n \n \n \n \n \n \n \n IMG_5F00_20180208_5F00_111942.jpg \n \n \n Phil Hutchinson - element14 Community Raspberry Pi \n \n \n \n More about Raspberry Pi \n Democratising technology &ndash; providing access to tools &ndash; has been our motivation since the Raspberry Pi project began. By driving down the cost of general-purpose computing to below $5, we&rsquo;ve opened up the ability for anybody to use computers in projects that used to require prohibitive amounts of capital. Today, with barriers to entry being removed, we see Raspberry Pi computers being used everywhere from interactive museum exhibits and schools to national postal sorting offices and government call centres. Kitchen table businesses all over the world have been able to scale and find success in a way that just wasn&rsquo;t possible in a world where integrating technology meant spending large sums on laptops and PCs. \n Raspberry Pi removes the high entry cost to computing for people across all demographics: while children can benefit from a computing education that previously wasn&rsquo;t open to them, many adults have also historically been priced out of using computers for enterprise, entertainment and creativity. Raspberry Pi eliminates those barriers. \n You can find out more about Raspberry Pi on the Community,a nd their products at the online store. \n Raspberry Pi Products \n Are you Prepared? \n This webinar uses the online service on24 to deliver the presentation. Click through and check that you meet the minimum system requirements before attending. \n Is the Webinar Recorded? \n Every webinar hosted with on24 will be recorded and available &#39;on demand&#39;, simply come back to this event page and you&#39;ll be able to click through to the event when it&#39;s live, and then later to view the recording at any time.
X-ALT-DESC;FMTTYPE=text/html:<html><body><p><strong><a href="https://community.element14.com/resized-image/__size/1280x720/__key/telligent-evolution-extensions-calendar-calendarfiles/00-00-00-00-71/image-_2800_6_2900_.png">image-_2800_6_2900_.png</a></strong></p><h2 id="mcetoc_1hgfri9l70"><strong>Raspberry Pi 5 and Cameras and their History.</strong></h2><ul><li style="font-weight:400;"><span style="font-weight:400;">Introducing Raspberry Pi 5 and its range of compatible cameras</span></li><li style="font-weight:400;"><span style="font-weight:400;">The Raspberry Pi Global Shutter camera</span></li><li style="font-weight:400;"><span style="font-weight:400;">Raspberry Pi 5 MIPI connector, new cables, and the hardware choices behind them</span></li><li style="font-weight:400;"><span style="font-weight:400;">Background about designing the hardware</span></li><li style="font-weight:400;"><span style="font-weight:400;">A basic set-up guide to Raspberry Pi cameras</span></li><li style="font-weight:400;"><span style="font-weight:400;">Q&amp;A</span></li></ul><h2 id="mcetoc_1hgfri9l71">The Presenters</h2><div class="content-scrollable-wrapper"><table width="322" height="153"><tbody><tr><td><a href="https://community.element14.com/resized-image/__size/252x342/__key/telligent-evolution-extensions-calendar-calendarfiles/00-00-00-00-71/JamesHughes_5F00_headshot.jpg">JamesHughes_5F00_headshot.jpg</a></td></tr><tr><td><strong>James Hughes</strong>&nbsp;-&nbsp; Raspberry Pi Principal Software Engineer&nbsp;</td></tr></tbody></table><p></p><table width="322" height="153"><tbody><tr><td><a href="https://community.element14.com/resized-image/__size/240x320/__key/telligent-evolution-extensions-calendar-calendarfiles/00-00-00-00-71/IMG_5F00_20180208_5F00_111942.jpg">IMG_5F00_20180208_5F00_111942.jpg</a></td></tr><tr><td><strong>Phil Hutchinson</strong>-&nbsp;&nbsp;element14 Community Raspberry Pi&nbsp;</td></tr></tbody></table><h2 id="mcetoc_1hgfri9l72">More about Raspberry Pi</h2><p>Democratising technology &ndash; providing access to tools &ndash; has been our motivation since the Raspberry Pi project began. By driving down the cost of general-purpose computing to below $5, we&rsquo;ve opened up the ability for anybody to use computers in projects that used to require prohibitive amounts of capital. Today, with barriers to entry being removed, we see Raspberry Pi computers being used everywhere from interactive museum exhibits and schools to national postal sorting offices and government call centres. Kitchen table businesses all over the world have been able to scale and find success in a way that just wasn&rsquo;t possible in a world where integrating technology meant spending large sums on laptops and PCs.</p><p>Raspberry Pi removes the high entry cost to computing for people across all demographics: while children can benefit from a computing education that previously wasn&rsquo;t open to them, many adults have also historically been priced out of using computers for enterprise, entertainment and creativity. Raspberry Pi eliminates those barriers.</p><p>You can find out more about Raspberry Pi on the Community,a nd their products at the online store.</p><p><span ><a class="e14-button e14-button--primary e14-button--large" href="https://referral.element14.com/OrderCodeView?url=%2Fc%2Fraspberry-pi&COM=e14c-cmty-events-raspi&CMP=e14c-cmty-events-raspi&osetc=e14c-cmty-events-raspi" title="Raspberry Pi Products" title="Raspberry Pi Products" target="_blank">Raspberry Pi Products</a></span></p><h2 id="mcetoc_1hgfri9l73">Are you Prepared?</h2><p><span>This webinar uses the online service on24 to deliver the presentation. Click&nbsp;</span><a href="https://event.on24.com/view/help/sysreq.html" rel="nofollow noopener noreferrer" target="_blank">through&nbsp;and check that you meet the minimum system requirements</a><span>&nbsp;before attending.</span></p><h2><span>Is the Webinar Recorded?</span></h2><p><span>Every webinar hosted with on24 will be recorded and available &#39;on demand&#39;, simply come back to this event page and you&#39;ll be able to click through to the event when it&#39;s live, and then later to view the recording at any time.</span></p></div></body></html>
CLASS:PUBLIC
END:VEVENT
END:VCALENDAR