BEGIN:VCALENDAR
VERSION:2.0
METHOD:PUBLISH
BEGIN:VEVENT
ORGANIZER:MAILTO:
DTSTART:20201112T203000Z
DTEND:20201112T223000Z
LOCATION:https://www.element14.com/community/community/element14-presents
SUMMARY:element14 Presents Live: Xbox Series X Teardown with Ben Heck and David Edwards!!
DESCRIPTION;ENCODING=QUOTED-PRINTABLE:e14PresentsJune818.png element14 Presents Live element14 Presents | Project Videos TEI%20live.jpg TEI%20LIVE.jpg The Presenters: David Edwards from element14 presents&#39; The Electronics Inside will be joined by element14 alum Ben Heck element14&#39;s The Ben Heck Show to tear down the Xbox Series X and see what (if anything) is new inside. Additional Content including Close-up Photo&#39;s and Video: e14 presents: XBox Series X Teardown Livestream Supplemental Content Comment Below to Win! We’re giving away three $100 shopping carts and some element14 gear in conjunction with this Live stream. To enter to win, all you have to do is tell us about the very first electronic appliance or gaming console you took apart. Tell us why you took it apart. If it was broken, were you able to fix it? Did you have the right tools for the job? If not, how MacGyver did you get? Were you able to get it working again (whether it was broken or not)? There are no right answers, but the most engaging (as determined by the element14 team) have chances to win. We look forward to hearing your stories. Terms and Conditions apply
X-ALT-DESC;FMTTYPE=text/html:<html><body><div style="background:#ffffff;padding:14px 16px 16px 18px;margin:0;vertical-align:top;border:1px solid #dadada;"><div style="float:left;display:inline-block;padding:0px 25px 8px 0px;"><a href="https://community.element14.com/challengesprojects/element14-presents/"><a href="https://community.element14.com/e14/assets/legacy/2018/e14PresentsJune818.png">e14PresentsJune818.png</a></a></div><div style="display:inline-block;vertical-align:top;width:70%;"><span style="font-size:18px;font-weight:bold;"><a class="jivecontainerTT-hover-container jive-link-community-small" href="https://community.element14.com/challengesprojects/element14-presents/">element14 Presents Live</a></span><p style="margin:0;"><span><a class="jivecontainerTT-hover-container jive-link-community-small" href="https://community.element14.com/challengesprojects/element14-presents/">element14 Presents</a></span>&nbsp; <strong>|</strong> <a class="jivecontainerTT-hover-container jive-link-community-small" href="https://community.element14.com/challengesprojects/element14-presents/project-videos/">Project Videos</a></p></div></div><p style="margin:0;padding:0px;font-family:Arial, &#39;Lucida Grande&#39;, sans-serif;color:#333333;">&nbsp;</p><p style="margin:0;font-family:Arial, &#39;Lucida Grande&#39;, sans-serif;color:#333333;"><a href="https://community.element14.com/e14/assets/legacy/2018/TEI%20live.jpg"><a href="https://community.element14.com/e14/assets/legacy/2018/TEI%20live.jpg">TEI%20live.jpg</a></a><a href="https://community.element14.com/e14/assets/legacy/2018/TEI%20LIVE.jpg"><a href="https://community.element14.com/e14/assets/legacy/2018/TEI%20LIVE.jpg">TEI%20LIVE.jpg</a></a></p><p style="margin:0;padding:0px;font-family:Arial, &#39;Lucida Grande&#39;, sans-serif;color:#333333;">&nbsp;</p><p style="margin:0;padding:0px;font-family:Arial, &#39;Lucida Grande&#39;, sans-serif;color:#333333;">&nbsp;</p><h2><span style="color:#3334ca;">The Presenters:</span></h2><p style="margin:0;padding:0px;">&nbsp;</p><p style="margin:0;">David Edwards from element14 presents&#39; <a class="jivecontainerTT-hover-container jive-link-community-small" href="https://community.element14.com/challengesprojects/element14-presents/theelectronicsinside/">The Electronics Inside</a> will be joined by element14 alum Ben Heck <a class="jivecontainerTT-hover-container jive-link-community-small" href="https://community.element14.com/challengesprojects/element14-presents/benheck/">element14&#39;s The Ben Heck Show</a> to tear down the Xbox Series X and see what (if anything) is new inside.</p><p style="margin:0;padding:0px;">&nbsp;</p><h2><span style="color:#3334ca;">Additional Content including Close-up Photo&#39;s and Video:</span></h2><p style="margin:0;"><span style="color:#3334ca;"><a class="jive-link-wiki-small" href="https://community.element14.com/learn/events/w/documents/5136/e14-presents-xbox-series-x-teardown-livestream-supplemental-content"><span style="color:#3334ca;">e14 presents: XBox Series X Teardown Livestream Supplemental Content</span></a> </span></p><p style="margin:0;padding:0px;">&nbsp;</p><h2><span style="color:#3334ca;">Comment Below to Win!</span></h2><p style="margin:0;padding:0px;">&nbsp;</p><p style="margin:0;">We’re giving away three $100 shopping carts and some element14 gear in conjunction with this Live stream.&nbsp; To enter to win, all you have to do is tell us about the very first electronic appliance or gaming console you took apart.</p><p style="margin:0;padding:0px;">&nbsp;</p><p style="margin:0;">Tell us why you took it apart.&nbsp; If it was broken, were you able to fix it? Did you have the right tools for the job?&nbsp; If not, how MacGyver did you get?&nbsp; Were you able to get it working again (whether it was broken or not)?</p><p style="margin:0;padding:0px;">&nbsp;</p><p style="margin:0;">There are no right answers, but the most engaging (as determined by the element14 team) have chances to win.&nbsp; We look forward to hearing your stories.</p><p style="margin:0;padding:0px;">&nbsp;</p><p style="margin:0;"><span style="font-size:10pt;"><span style="font-size:12pt;"><strong><a class="jive-link-external-small" href="https://files1.element14.com/community/themes/images/2020/Tell%20us%20about%20Your%20First%20Teardown%20Terms&amp;Conditions.pdf" rel="nofollow ugc noopener" target="_blank">Terms and Conditions</a> </strong></span>apply </span></p></body></html>
CLASS:PUBLIC
END:VEVENT
END:VCALENDAR