BEGIN:VCALENDAR
VERSION:2.0
METHOD:PUBLISH
BEGIN:VEVENT
ORGANIZER:MAILTO:
DTSTART:20120418T110000Z
DTEND:20120418T120000Z
LOCATION:Online
SUMMARY:Webinar: Export Controls within the EU
DESCRIPTION;ENCODING=QUOTED-PRINTABLE:Trevor Wood, Farnell&rsquo;s European Compliance Manager will be hosting a short webinar exploring export controls within the European Union. \n \n The webinar will focus on the following issues: \n Why do we have export controls? Export of sensitive goods \n Who decides which items are controlled? Control lists Control regimes \n Which items are controlled? Military Dual-Use \n How do I export a controlled item? Export licence system \n What else do I need to consider? Specific control lists \n Where can I get further information? Useful contacts and reference points \n The presentation will be followed by a 30 minute question and answer session. If you have a question you want to ask Trevor please email it to tradecompliance@element14.com or add it to the comments box below. \n \n You can register for the webinar by clicking the button to the right. \n \n \n About the speaker: \n \n Trevor Wood is the EU Compliance Manager at Premier Farnell. \n \n He has extensive experience in all aspects of trade compliance and export controls.
X-ALT-DESC;FMTTYPE=text/html:<html><body><p style="margin:0;">Trevor Wood, Farnell&rsquo;s European Compliance Manager will be hosting a short webinar exploring export controls within the European Union.</p><p style="margin:0;padding:0px;">&nbsp;</p><p style="margin:0;">The webinar will focus on the following issues:<br />&nbsp;</p><p style="margin:0;"><strong>Why do we have export controls?</strong><br />Export of sensitive goods</p><p style="margin:0;"><br /><strong>Who decides which items are controlled?</strong><br />Control lists<br />Control regimes</p><p style="margin:0;"><br /><strong>Which items are controlled?</strong><br />Military<br />Dual-Use</p><p style="margin:0;"><br /><strong>How do I export a controlled item?</strong><br />Export licence system</p><p style="margin:0;"><br /><strong>What else do I need to consider?</strong><br />Specific control lists</p><p style="margin:0;"><br /><strong>Where can I get further information?</strong><br />Useful contacts and reference points</p><p style="margin:0;">The presentation will be followed by a 30 minute question and answer session. If you have a question you want to ask Trevor please email it to <a class="jive-link-email-small" href="mailto:tradecompliance@element14.com">tradecompliance@element14.com</a> or add it to the comments box below.</p><p style="margin:0;padding:0px;">&nbsp;</p><p style="margin:0;"><strong>You can register for the webinar by clicking the button to the right.</strong></p><p style="margin:0;padding:0px;">&nbsp;</p><p style="margin:0;padding:0px;">&nbsp;</p><p style="margin:0;">About the speaker:</p><p style="margin:0;padding:0px;">&nbsp;</p><p style="margin:0;">Trevor Wood is the EU Compliance Manager at Premier Farnell.</p><p style="margin:0;padding:0px;">&nbsp;</p><p style="margin:0;">He has extensive experience in all aspects of trade compliance and export controls.</p></body></html>
CLASS:PUBLIC
END:VEVENT
END:VCALENDAR