BEGIN:VCALENDAR
VERSION:2.0
METHOD:PUBLISH
BEGIN:VEVENT
ORGANIZER:MAILTO:
DTSTART:20231130T160000Z
DTEND:20231130T170000Z
LOCATION:Online
SUMMARY:Creating your own RISC-V Project with BeagleBoard.org
DESCRIPTION;ENCODING=QUOTED-PRINTABLE:Join Jason Kridner, founder and president of the board at the BeagleBoard after the launch of their new RISC-V board, the BeagleV&reg;-Fire. \n Learn how you can use RISC-V and BeagleBoard products in your own projects. Then ask direct questions in this live and exclusive 1 hour Webinar. \n You can download the slides here: Slides for Creating your own RISC-V Project with BeagleBoard.org \n Topics \n \n Host introduction \n Introduction to the Product line \n Why build a project using RISC-V Architecture \n What are the starting blocks for a RISC-V based Project \n Jason&rsquo;s Stories about working with RISC-V Architecture \n Further reading and resources \n Q&amp;A \n \n MicrosoftTeams_2D00_image-_2800_5_2900_.png \n More about BeagleBoard.org \n pastedimage1700755313731v1.png \n The BeagleBoard.org Foundation is a Michigan, USA-based 501(c)(3) non-profit corporation existing to provide education in and collaboration around the design and use of open-source software and hardware in embedded computing. BeagleBoard.org provides a forum for the owners and developers of open-source software and hardware to exchange ideas, knowledge and experience. The BeagleBoard.org community collaborates on the development of open-source physical computing solutions including robotics, personal manufacturing tools like 3D printers and laser cutters, and other types of industrial and machine controls. \n You can find out more about beagleboard on the Community , and their products at the online store. \n beagleboard Products \n Are you Prepared? \n This webinar uses the online service on24 to deliver the presentation. Click through and check that you meet the minimum system requirements before attending.
X-ALT-DESC;FMTTYPE=text/html:<html><body><p>Join Jason Kridner, founder and president of the board at the BeagleBoard after the launch of their new RISC-V board, the BeagleV&reg;-Fire.</p><p>Learn how you can use RISC-V and BeagleBoard products in your own projects. Then ask direct questions in this live and exclusive 1 hour Webinar. &nbsp;</p><p>You can download the slides here:&nbsp;&nbsp;<a href="https://community.element14.com/learn/events/m/files/148599" data-contentid="e572cb863dbc49feacc2564a54c906a4" data-contenttypeid="08ca0da0e0174a809832476c74d4f174" class="ui-contentpeek internal-link">Slides for Creating your own RISC-V Project with BeagleBoard.org</a>&nbsp;&nbsp;</p><h2>Topics</h2><ol><li>Host introduction</li><li>Introduction to the Product line</li><li>Why build a project using RISC-V Architecture &nbsp;</li><li>What are the starting blocks for a RISC-V based Project</li><li>Jason&rsquo;s Stories about working with RISC-V Architecture</li><li>Further reading and resources</li><li>Q&amp;A</li></ol><p><a href="https://community.element14.com/resized-image/__size/1048x590/__key/telligent-evolution-extensions-calendar-calendarfiles/00-00-00-00-71/MicrosoftTeams_2D00_image-_2800_5_2900_.png">MicrosoftTeams_2D00_image-_2800_5_2900_.png</a></p><h2 id="mcetoc_1hfueogh01">More about BeagleBoard.org</h2><p><a href="https://community.element14.com/resized-image/__size/692x134/__key/telligent-evolution-extensions-calendar-calendarfiles/00-00-00-00-71/pastedimage1700755313731v1.png">pastedimage1700755313731v1.png</a></p><p>The BeagleBoard.org Foundation is a Michigan, USA-based 501(c)(3) non-profit corporation existing to provide education in and collaboration around the design and use of open-source software and hardware in embedded computing. BeagleBoard.org provides a forum for the owners and developers of open-source software and hardware to exchange ideas, knowledge and experience. The BeagleBoard.org community collaborates on the development of open-source physical computing solutions including robotics, personal manufacturing tools like 3D printers and laser cutters, and other types of industrial and machine controls.</p><p>You can find out more about <a title="beagleboard on the Community" href="https://community.element14.com/products/devtools/single-board-computers/next-genbeaglebone/">beagleboard on the Community</a>, and their products at the online store.</p><p><span ><a class="e14-button e14-button--primary e14-button--large" href="https://referral.element14.com/OrderCodeView?url=%2Fb%2Fbeagleboard&COM=e14c-cmty-events-beagle-riscvproj&CMP=e14c-cmty-events-beagle-riscvproj&osetc=e14c-cmty-events-beagle-riscvproj" title="beagleboard Products" title="beagleboard Products" target="_blank">beagleboard Products</a></span></p><h2 id="mcetoc_1hfues7bt2"><span>Are you&nbsp;Prepared?</span></h2><p><span>This webinar uses the online service on24 to deliver the presentation. Click&nbsp;<a href="https://event.on24.com/view/help/sysreq.html" rel="nofollow noopener noreferrer" target="_blank">through&nbsp;and check that you meet the minimum system requirements</a>&nbsp;before attending.</span></p><p><span></span></p></body></html>
CLASS:PUBLIC
END:VEVENT
END:VCALENDAR