BEGIN:VCALENDAR
VERSION:2.0
METHOD:PUBLISH
BEGIN:VEVENT
ORGANIZER:MAILTO:
DTSTART:20180510T160000Z
DTEND:20180510T170000Z
LOCATION:webex
SUMMARY:Introduction to BeagleBone
DESCRIPTION;ENCODING=QUOTED-PRINTABLE:GOQAXMqd66Kng== You can now watch the webinar recording! - Be Sure to Enroll for the other Webinars in the Series {tabbedtable} Tab Label Tab Content About Getting to know your BeagleBone with Jason Kridner Bi-Weekly webinar series with BeagleBone Co-founder Jason Kridner. Each webinar has an accompanying demonstration video. Jason will also take questions posted in the event below. Session 1: Introduction to the BeagleBone Jason introduces you to the BeagleBone products and fields your questions. In this session we will be covering topics such as, Who are beagleBoard.org, how are BeagleBoard’s different to other devboards on the market and what are PRU’s. This week’s accompanying demonstration video. - Day one with your BeagleBoard - Which Cables and Peripherals do you need. - How to set up your BeagleBoard out of the box. - Writing your first program Questions Please post your questions for Jason in the comment section below. Next webinar dates: Webinar Title Date and Time Enroll Now! Introduction to BeagleBone 10th May 2018 11:00 AM (CDT)/17:00 (GMT) Enroll Now BeagleBone for Linux Users 24th May 2018 11:00 AM (CDT)/17:00 (GMT) Enroll Now BeagleBone for Embedded Developers 6th June 2018 11:00 AM (CDT)/17:00 (GMT) Enroll Now BeagleBone for Web Developers 21th June 2018 11:00 AM (CDT)/17:00 (GMT) Enroll Now BeagleBone Blue for Robotics 9th August 2018 11:00 AM (CDT)/17:00 (GMT) Enroll Now BeagleBone in the Classroom 23rd August 2018 11:00 AM (CDT)/17:00 (GMT) Enroll Now Presenter Jason Kridner Jason is a co-founder of BeagleBoard.org. Webinar Recording Click here to view the webinar recording
X-ALT-DESC;FMTTYPE=text/html:<html><body><p style="margin:0;"><span><a href="https://community.element14.com/resized-image/__size/416x86/__key/telligent-evolution-extensions-calendar-calendarfiles/00-00-00-00-71/contentimage_5F00_97428.png"><a href="https://community-storage.element14.com/communityserver-components-secureimagefileviewer/telligent/evolution/extensions/calendar/calendarfiles/00/00/00/00/71/contentimage_97428.png-416x86.png?sv=2016-05-31&amp;sr=b&amp;sig=cqEaBhfk1foYVJTuzQhzbiQ4aQzFUO8tiAepskPqRuI%3D&amp;se=2026-04-30T23%3A59%3A59Z&amp;sp=r&amp;_=sY7Kkc1z/GOQAXMqd66Kng==">GOQAXMqd66Kng==</a></a></span></p><p style="margin:0;"><span style="font-size:14pt;"><a class="jive-link-wiki-small" href="https://community.element14.com/learn/events/w/documents/3620/webinar-recording-introduction-to-beaglebone">You can now watch the webinar recording!</a> - Be Sure to <a class="jive-link-wiki-small" href="https://community.element14.com/learn/events/w/documents/3586/beaglebone-6-part-webinar-series">Enroll for the other Webinars in the Series</a></span></p><p style="margin:0;padding:0px;">&nbsp;</p><table border="1" class="jiveBorder" style="border:1px solid #000000;width:100%;"><thead><tr><th style="border:1px solid black;border:1px solid #000000;padding:2px;color:#ffffff;background-color:#6690bc;text-align:center;" valign="middle"><strong>{tabbedtable} Tab Label</strong></th><th style="border:1px solid black;border:1px solid #000000;padding:2px;color:#ffffff;background-color:#6690bc;text-align:center;" valign="middle"><strong>Tab Content</strong></th></tr></thead><tbody><tr><td style="border:1px solid black;border:1px solid #000000;padding:2px;">About</td><td style="border:1px solid black;border:1px solid #000000;padding:2px;"><p style="margin:0;"><strong>Getting to know your BeagleBone with Jason Kridner</strong></p><p style="margin:0;">Bi-Weekly webinar series with BeagleBone Co-founder Jason Kridner.</p><p style="margin:0;">Each webinar has an accompanying demonstration video.</p><p style="margin:0;">Jason will also take questions posted in the event below.</p><p style="margin:0;padding:0px;">&nbsp;</p><p style="margin:0;"><strong>Session 1: Introduction to the BeagleBone</strong></p><p style="margin:0;">Jason introduces you to the BeagleBone products and fields your questions.</p><p style="margin:0;">In this session we will be covering topics such as, Who are beagleBoard.org, how are BeagleBoard’s different to other devboards on the market and what are PRU’s.</p><p style="margin:0;padding:0px;">&nbsp;</p><p style="margin:0;"><strong>This week’s accompanying demonstration video. </strong></p><p style="margin:0;">- Day one with your BeagleBoard</p><p style="margin:0;">- Which Cables and Peripherals do you need.</p><p style="margin:0;">- How to set up your BeagleBoard out of the box.</p><p style="margin:0;">- Writing your first program</p><p style="margin:0;"><strong><em> <br /></em></strong></p><p style="margin:0;"><strong>Questions</strong></p><p style="margin:0;">Please post your questions for Jason in the comment section below.</p><p style="margin:0;padding:0px;">&nbsp;</p><p style="margin:0;"><strong>Next webinar dates: </strong></p><p style="margin:0;padding:0px;">&nbsp;</p><table cellpadding="0" cellspacing="0" style="border:1px solid #848589;"><thead><tr><th style="border:1px solid #848589;background-color:#003082;padding:6px;"><span style="font-weight:bold;color:#ffffff;">Webinar Title</span></th><th style="border:1px solid #848589;border-right:1px solid #ffffff;border-left:1px solid #ffffff;background-color:#003082;padding:6px;"><span style="font-weight:bold;color:#ffffff;">Date and Time</span></th><th style="border:1px solid #848589;background-color:#003082;padding:6px;"><span style="font-weight:bold;color:#ffffff;padding-right:10px;">Enroll Now!</span></th></tr></thead><tbody><tr><td style="border:1px solid #848589;padding:6px;background-color:e3eefd;"><strong>Introduction to BeagleBone</strong></td><td style="border:1px solid #848589;padding:6px;"><strong>10th May 2018</strong> <br />11:00 AM (CDT)/17:00 (GMT)</td><td style="border:1px solid #848589;vertical-align:middle;padding:6px;background-color:e3eefd;"><span class="e14-button-tertiary e14-button-large"><a class="jive-link-event" href="https://www.element14.com/community/events/5101/l/introduction-to-beaglebone?ICID=webinars-6BBB-seriesdoc" title="Enroll Now">Enroll Now</a></span></td></tr><tr><td style="border:1px solid #848589;padding:6px;background-color:e3eefd;"><strong>BeagleBone for Linux Users</strong></td><td style="border:1px solid #848589;padding:6px;"><strong>24th May 2018</strong> <br />11:00 AM (CDT)/17:00 (GMT)</td><td style="border:1px solid #848589;vertical-align:middle;padding:6px;background-color:e3eefd;"><span class="e14-button-tertiary e14-button-large"><a class="jive-link-event" href="https://www.element14.com/community/events/5102/l/beaglebone-for-linux-users?ICID=webinars-6BBB-seriesdoc" title="Enroll Now">Enroll Now</a></span></td></tr><tr><td style="border:1px solid #848589;padding:6px;background-color:e3eefd;"><strong>BeagleBone for Embedded Developers</strong></td><td style="border:1px solid #848589;padding:6px;"><strong>6th June 2018</strong> <br />11:00 AM (CDT)/17:00 (GMT)</td><td style="border:1px solid #848589;vertical-align:middle;padding:6px;background-color:e3eefd;"><span class="e14-button-tertiary e14-button-large"><a class="jive-link-event" href="https://www.element14.com/community/events/5103/l/beaglebone-for-embedded-developers?ICID=webinars-6BBB-seriesdoc" title="Enroll Now">Enroll Now</a></span></td></tr><tr><td style="border:1px solid #848589;padding:6px;background-color:e3eefd;"><strong>BeagleBone for Web Developers</strong></td><td style="border:1px solid #848589;padding:6px;"><strong>21th June&nbsp; 2018</strong> <br />11:00 AM (CDT)/17:00 (GMT)</td><td style="border:1px solid #848589;vertical-align:middle;padding:6px;background-color:e3eefd;"><span class="e14-button-tertiary e14-button-large"><a class="jive-link-event" href="https://www.element14.com/community/events/5104/l/beaglebone-for-web-developers?ICID=webinars-6BBB-seriesdoc" title="Enroll Now">Enroll Now</a></span></td></tr><tr><td style="border:1px solid #848589;padding:6px;background-color:e3eefd;"><strong>BeagleBone Blue for Robotics</strong></td><td style="border:1px solid #848589;padding:6px;"><strong>9th August 2018</strong> <br />11:00 AM (CDT)/17:00 (GMT)</td><td style="border:1px solid #848589;vertical-align:middle;padding:6px;background-color:e3eefd;"><span class="e14-button-tertiary e14-button-large"><a class="jive-link-event" href="https://www.element14.com/community/events/5105/l/beaglebone-blue-for-robotics?ICID=webinars-6BBB-seriesdoc" title="Enroll Now">Enroll Now</a></span></td></tr><tr><td style="border:1px solid #848589;padding:6px;background-color:e3eefd;"><strong>BeagleBone in the Classroom</strong></td><td style="border:1px solid #848589;padding:6px;"><strong>23rd August 2018</strong> <br />11:00 AM (CDT)/17:00 (GMT)</td><td style="border:1px solid #848589;vertical-align:middle;padding:6px;background-color:e3eefd;"><span class="e14-button-tertiary e14-button-large"><a class="jive-link-event" href="https://www.element14.com/community/events/5106/l/beaglebone-in-the-classroom?ICID=webinars-6BBB-seriesdoc" title="Enroll Now">Enroll Now</a></span></td></tr></tbody></table></td></tr><tr><td style="border:1px solid black;border:1px solid #000000;padding:2px;">Presenter</td><td style="border:1px solid black;border:1px solid #000000;padding:2px;"><p style="margin:0;"><strong>Jason Kridner</strong></p><br /><p style="margin:0;">Jason is a co-founder of BeagleBoard.org.</p></td></tr><tr><td style="border:1px solid black;border:1px solid #000000;padding:2px;">Webinar Recording</td><td style="border:1px solid black;border:1px solid #000000;padding:2px;"><p style="margin:0;"><strong><a class="jive-link-wiki-small" href="https://community.element14.com/learn/events/w/documents/3620/webinar-recording-introduction-to-beaglebone">Click here to view the webinar recording</a></strong></p></td></tr></tbody></table><script>window.top.e14.func.queueScripts.add(function() { window.top.e14.func.e14DynaloadTabbedTables.init(); });</script></body></html>
CLASS:PUBLIC
END:VEVENT
END:VCALENDAR